BEGIN:VCALENDAR
VERSION:2.0
PRODID:-//Lowry United Neighborhoods - ECPv6.15.17.1//NONSGML v1.0//EN
CALSCALE:GREGORIAN
METHOD:PUBLISH
X-ORIGINAL-URL:https://lowryunitedneighborhoods.org
X-WR-CALDESC:Events for Lowry United Neighborhoods
REFRESH-INTERVAL;VALUE=DURATION:PT1H
X-Robots-Tag:noindex
X-PUBLISHED-TTL:PT1H
BEGIN:VTIMEZONE
TZID:America/Denver
BEGIN:DAYLIGHT
TZOFFSETFROM:-0700
TZOFFSETTO:-0600
TZNAME:MDT
DTSTART:20210314T090000
END:DAYLIGHT
BEGIN:STANDARD
TZOFFSETFROM:-0600
TZOFFSETTO:-0700
TZNAME:MST
DTSTART:20211107T080000
END:STANDARD
BEGIN:DAYLIGHT
TZOFFSETFROM:-0700
TZOFFSETTO:-0600
TZNAME:MDT
DTSTART:20220313T090000
END:DAYLIGHT
BEGIN:STANDARD
TZOFFSETFROM:-0600
TZOFFSETTO:-0700
TZNAME:MST
DTSTART:20221106T080000
END:STANDARD
BEGIN:DAYLIGHT
TZOFFSETFROM:-0700
TZOFFSETTO:-0600
TZNAME:MDT
DTSTART:20230312T090000
END:DAYLIGHT
BEGIN:STANDARD
TZOFFSETFROM:-0600
TZOFFSETTO:-0700
TZNAME:MST
DTSTART:20231105T080000
END:STANDARD
END:VTIMEZONE
BEGIN:VEVENT
DTSTART;TZID=America/Denver:20220212T090000
DTEND;TZID=America/Denver:20220212T113000
DTSTAMP:20260421T091901
CREATED:20220124T215638Z
LAST-MODIFIED:20220124T215638Z
UID:6679-1644656400-1644665400@lowryunitedneighborhoods.org
SUMMARY:INC: 2022 Denver Climate Outlook\, A Report to Neighborhoods
DESCRIPTION:2022 Denver Climate Outlook: A Report to Neighborhoods\n9 – 11:30 a.m.\, Saturday\, February 12\, 2022 \nClick here to pre-register. \nJoin your neighbors for INC’s monthly delegate meeting. After the busines meeting\, our program will present a hopeful update from city leaders about our collective work to slow down and adapt to the Climate Crisis. The City and County of Denver\, elected officials\, staff and citizens have been working hard and much has been accomplished since we gathered last Spring. \n9:00 – 9:30 INC Business Meeting featuring presentation of candidates for board offices\n(always open to the public\, but not required if you’re not a delegate) \n9:30 – 11:30 Climate Report plus plenty for time for Q&A and discussion. \nOverview of the Office of Climate Action\, Sustainability & Resiliency (CASR).\nLearn about creation and expansion of the office and the Sustainability Advisory Council.\nOverview of the Climate Protection Fund.\nLearn about the new Climate Protection Fund\, including funding opportunities and accomplishments in its first year.\nCity-wide Climate Work.\nLearn how CASR is working with other agencies to advance climate work.\nLearn how you can get the latest news from CASR and get involved in programs for residents and businesses.
URL:https://lowryunitedneighborhoods.org/event/inc-2022-denver-climate-outlook-a-report-to-neighborhoods/
LOCATION:Virtual
END:VEVENT
END:VCALENDAR