BEGIN:VCALENDAR
VERSION:2.0
PRODID:-//Lowry United Neighborhoods - ECPv6.15.17.1//NONSGML v1.0//EN
CALSCALE:GREGORIAN
METHOD:PUBLISH
X-WR-CALNAME:Lowry United Neighborhoods
X-ORIGINAL-URL:https://lowryunitedneighborhoods.org
X-WR-CALDESC:Events for Lowry United Neighborhoods
REFRESH-INTERVAL;VALUE=DURATION:PT1H
X-Robots-Tag:noindex
X-PUBLISHED-TTL:PT1H
BEGIN:VTIMEZONE
TZID:America/Denver
BEGIN:DAYLIGHT
TZOFFSETFROM:-0700
TZOFFSETTO:-0600
TZNAME:MDT
DTSTART:20210314T090000
END:DAYLIGHT
BEGIN:STANDARD
TZOFFSETFROM:-0600
TZOFFSETTO:-0700
TZNAME:MST
DTSTART:20211107T080000
END:STANDARD
BEGIN:DAYLIGHT
TZOFFSETFROM:-0700
TZOFFSETTO:-0600
TZNAME:MDT
DTSTART:20220313T090000
END:DAYLIGHT
BEGIN:STANDARD
TZOFFSETFROM:-0600
TZOFFSETTO:-0700
TZNAME:MST
DTSTART:20221106T080000
END:STANDARD
BEGIN:DAYLIGHT
TZOFFSETFROM:-0700
TZOFFSETTO:-0600
TZNAME:MDT
DTSTART:20230312T090000
END:DAYLIGHT
BEGIN:STANDARD
TZOFFSETFROM:-0600
TZOFFSETTO:-0700
TZNAME:MST
DTSTART:20231105T080000
END:STANDARD
END:VTIMEZONE
BEGIN:VEVENT
DTSTART;TZID=America/Denver:20220110T173000
DTEND;TZID=America/Denver:20220110T210000
DTSTAMP:20260421T192107
CREATED:20211209T170642Z
LAST-MODIFIED:20211222T042612Z
UID:6476-1641835800-1641848400@lowryunitedneighborhoods.org
SUMMARY:CITY COUNCIL PUBLIC HEARING: Proposed Senior Living Development @ Machebeuf Field
DESCRIPTION:The Lowry East Park community met with the proposed senior living development team at United Properties this week to learn more about the proposed development and ask questions regarding the building site plans and potential increase in traffic safety issues once the development is complete. \nThe next step in this proposed development process will be the public hearing with City Council. The weekly city council meeting starts at 5:30 p.m. on Monday\, January 10\, 2022\, with  a number of different topics on the agenda. So the actual hearing for the Lowry rezoning topic does not have a fixed start time in the meeting. \nHere’s the link to join in and provide comments: \nhttps://zoom.us/webinar/register/WN_3GN7Zv99SluXrlm4UC8NLQ\nPassword: Denver\nTo call in to listen: 720-928-9299 enter 960 0657 7923 for the webinar ID.
URL:https://lowryunitedneighborhoods.org/event/city-council-public-hearing-proposed-senior-living-development-machebeuf-field/
LOCATION:Virtual
END:VEVENT
END:VCALENDAR