BEGIN:VCALENDAR
VERSION:2.0
PRODID:-//Lowry United Neighborhoods - ECPv6.15.17.1//NONSGML v1.0//EN
CALSCALE:GREGORIAN
METHOD:PUBLISH
X-ORIGINAL-URL:https://lowryunitedneighborhoods.org
X-WR-CALDESC:Events for Lowry United Neighborhoods
REFRESH-INTERVAL;VALUE=DURATION:PT1H
X-Robots-Tag:noindex
X-PUBLISHED-TTL:PT1H
BEGIN:VTIMEZONE
TZID:America/Denver
BEGIN:DAYLIGHT
TZOFFSETFROM:-0700
TZOFFSETTO:-0600
TZNAME:MDT
DTSTART:20200308T090000
END:DAYLIGHT
BEGIN:STANDARD
TZOFFSETFROM:-0600
TZOFFSETTO:-0700
TZNAME:MST
DTSTART:20201101T080000
END:STANDARD
BEGIN:DAYLIGHT
TZOFFSETFROM:-0700
TZOFFSETTO:-0600
TZNAME:MDT
DTSTART:20210314T090000
END:DAYLIGHT
BEGIN:STANDARD
TZOFFSETFROM:-0600
TZOFFSETTO:-0700
TZNAME:MST
DTSTART:20211107T080000
END:STANDARD
BEGIN:DAYLIGHT
TZOFFSETFROM:-0700
TZOFFSETTO:-0600
TZNAME:MDT
DTSTART:20220313T090000
END:DAYLIGHT
BEGIN:STANDARD
TZOFFSETFROM:-0600
TZOFFSETTO:-0700
TZNAME:MST
DTSTART:20221106T080000
END:STANDARD
END:VTIMEZONE
BEGIN:VEVENT
DTSTART;TZID=America/Denver:20211205T140000
DTEND;TZID=America/Denver:20211205T150000
DTSTAMP:20260421T221002
CREATED:20211122T175932Z
LAST-MODIFIED:20211122T180154Z
UID:6332-1638712800-1638716400@lowryunitedneighborhoods.org
SUMMARY:VOICES ROCK CONCERT
DESCRIPTION:VOICES ROCK is a 120 person rock choir and was started by a former Lowry resident (Jill Teas). \nJoin Denver’s original Rock Choir for our winter concert! Come happy and leave happier! This is an outdoor concert so dress warmly. \nBut tickets here.
URL:https://lowryunitedneighborhoods.org/event/voices-rock-concert/
LOCATION:Stanley British Primary School\, 350 Quebec St. 230\, Denver\, CO\, 80230\, United States
END:VEVENT
BEGIN:VEVENT
DTSTART;TZID=America/Denver:20211205T143000
DTEND;TZID=America/Denver:20211205T160000
DTSTAMP:20260421T221002
CREATED:20211202T205425Z
LAST-MODIFIED:20211202T210019Z
UID:6455-1638714600-1638720000@lowryunitedneighborhoods.org
SUMMARY:SANTA IS COMING TO TOWN!
DESCRIPTION:2:45-2:55P Tailwind Park\, 3 loops \n3:00-3:10P Bayaud Park\, 2.5 loops \n3:15-3:25P Sunset Park\, 3 loops \n3:40-3:50P Cresent Park\, 3 loops \n3:55-4:00P Liberator and Mustang Pocket Parks (9th Ave.) one pass each.
URL:https://lowryunitedneighborhoods.org/event/santa-is-coming-to-town/
LOCATION:CO
END:VEVENT
END:VCALENDAR