BEGIN:VCALENDAR
VERSION:2.0
PRODID:-//Lowry United Neighborhoods - ECPv6.15.17.1//NONSGML v1.0//EN
CALSCALE:GREGORIAN
METHOD:PUBLISH
X-WR-CALNAME:Lowry United Neighborhoods
X-ORIGINAL-URL:https://lowryunitedneighborhoods.org
X-WR-CALDESC:Events for Lowry United Neighborhoods
REFRESH-INTERVAL;VALUE=DURATION:PT1H
X-Robots-Tag:noindex
X-PUBLISHED-TTL:PT1H
BEGIN:VTIMEZONE
TZID:America/Denver
BEGIN:DAYLIGHT
TZOFFSETFROM:-0700
TZOFFSETTO:-0600
TZNAME:MDT
DTSTART:20200308T090000
END:DAYLIGHT
BEGIN:STANDARD
TZOFFSETFROM:-0600
TZOFFSETTO:-0700
TZNAME:MST
DTSTART:20201101T080000
END:STANDARD
BEGIN:DAYLIGHT
TZOFFSETFROM:-0700
TZOFFSETTO:-0600
TZNAME:MDT
DTSTART:20210314T090000
END:DAYLIGHT
BEGIN:STANDARD
TZOFFSETFROM:-0600
TZOFFSETTO:-0700
TZNAME:MST
DTSTART:20211107T080000
END:STANDARD
BEGIN:DAYLIGHT
TZOFFSETFROM:-0700
TZOFFSETTO:-0600
TZNAME:MDT
DTSTART:20220313T090000
END:DAYLIGHT
BEGIN:STANDARD
TZOFFSETFROM:-0600
TZOFFSETTO:-0700
TZNAME:MST
DTSTART:20221106T080000
END:STANDARD
END:VTIMEZONE
BEGIN:VEVENT
DTSTART;TZID=America/Denver:20211031T100000
DTEND;TZID=America/Denver:20211031T140000
DTSTAMP:20260422T010336
CREATED:20211022T184410Z
LAST-MODIFIED:20211022T190152Z
UID:6194-1635674400-1635688800@lowryunitedneighborhoods.org
SUMMARY:LEAFDROP 2021: Weekend Drop Off Your Leaves for Free
DESCRIPTION:LeafDrop is a seasonal program offered by Denver Recycles that turns leaves into compost. The final compost product is made available at a discounted price to Denver residents at the Mulch Giveaway & Compost Sale each May. \nWeekend Drop Sites\nOctober 30 – November 14Saturdays and Sundays \n10 am to 2 pm \n\nBruce Randolph High School\n3955 Steele St.\nDenver\, CO 80205\nCherry Creek Transfer Station\n7352 Cherry Creek S Dr.\nDenver\, CO 80231\nKennedy High School\n2855 S Lamar St.\nDenver\, CO 80227\nSloan’s Lake Park\n1700 N Sheridan Blvd.\nDenver\, CO 80212\nVeterans Park\n2100 E Iowa Ave.\nDenver\, CO 80210\n\n 
URL:https://lowryunitedneighborhoods.org/event/leafdrop-2021-drop-off-your-leaves-for-free/
LOCATION:CO
END:VEVENT
BEGIN:VEVENT
DTSTART;TZID=America/Denver:20211031T173000
DTEND;TZID=America/Denver:20211031T190000
DTSTAMP:20260422T010336
CREATED:20211022T190043Z
LAST-MODIFIED:20211022T190051Z
UID:6196-1635701400-1635706800@lowryunitedneighborhoods.org
SUMMARY:14TH ANNUAL LOWRY NORTHWEST HALLOWEEN PARADE
DESCRIPTION:Sunday\, OCTOBER 31\, 2021 @ 5:30pm \nCRESCENT PARK \nALL AGES AND ALL LOWRY NEIGHBORHOODS  WELCOME!\nWE’LL MEET AT THE PICNIC TABLES at CRESCENT PARK AT 5:30 PM. \nTHE PARADE WILL CIRCLE THE PARK AND THEN EVERYONE WILL BEGIN TRICK-OR-TREATING! \nTO ADDRESS THE PROBLEM OF LATE-NIGHT TRICK-OR-TREATERS\, THE NEIGHBORHOOD HAS A SUGGESTED LIGHTS-OUT TIME OF 8:30 PM. REMEMBER\, SAFETY FIRST! \nSpecial Thanks to Kareen McIntosh\, Our neighborhood dentist\n(also known as the “Tooth Fairy”)\,\nfor supporting this and every past parade!
URL:https://lowryunitedneighborhoods.org/event/14th-annual-lowry-northwest-halloween-parade/
LOCATION:Crescent Park\, Lowry\, 782 Roslyn Street\, Denver\, 80230\, United States
END:VEVENT
END:VCALENDAR