BEGIN:VCALENDAR
VERSION:2.0
PRODID:-//Lowry United Neighborhoods - ECPv6.15.17.1//NONSGML v1.0//EN
CALSCALE:GREGORIAN
METHOD:PUBLISH
X-WR-CALNAME:Lowry United Neighborhoods
X-ORIGINAL-URL:https://lowryunitedneighborhoods.org
X-WR-CALDESC:Events for Lowry United Neighborhoods
REFRESH-INTERVAL;VALUE=DURATION:PT1H
X-Robots-Tag:noindex
X-PUBLISHED-TTL:PT1H
BEGIN:VTIMEZONE
TZID:America/Denver
BEGIN:DAYLIGHT
TZOFFSETFROM:-0700
TZOFFSETTO:-0600
TZNAME:MDT
DTSTART:20200308T090000
END:DAYLIGHT
BEGIN:STANDARD
TZOFFSETFROM:-0600
TZOFFSETTO:-0700
TZNAME:MST
DTSTART:20201101T080000
END:STANDARD
BEGIN:DAYLIGHT
TZOFFSETFROM:-0700
TZOFFSETTO:-0600
TZNAME:MDT
DTSTART:20210314T090000
END:DAYLIGHT
BEGIN:STANDARD
TZOFFSETFROM:-0600
TZOFFSETTO:-0700
TZNAME:MST
DTSTART:20211107T080000
END:STANDARD
BEGIN:DAYLIGHT
TZOFFSETFROM:-0700
TZOFFSETTO:-0600
TZNAME:MDT
DTSTART:20220313T090000
END:DAYLIGHT
BEGIN:STANDARD
TZOFFSETFROM:-0600
TZOFFSETTO:-0700
TZNAME:MST
DTSTART:20221106T080000
END:STANDARD
END:VTIMEZONE
BEGIN:VEVENT
DTSTART;VALUE=DATE:20211024
DTEND;VALUE=DATE:20211025
DTSTAMP:20260422T010341
CREATED:20211022T190810Z
LAST-MODIFIED:20211022T191216Z
UID:6201-1635033600-1635119999@lowryunitedneighborhoods.org
SUMMARY:TARGET OPENS IN BOULEVARD ONE
DESCRIPTION:Lowry’s very own Target officially opens in the Exchange\, Boulevard One\, on Sunday\, October 24.\n\n93 N Quebec St\, Denver\, CO 80230303-218-5430 \n\n\nReserved for vulnerable guests\n\n\nTue 8:00am – 9:00am\n\n\n\n\nStore hours\n\n\nFri 8:00am – 10:00pm\nSat 8:00am – 10:00pm\nSun 8:00am – 9:00pm\nMon 8:00am – 10:00pm\nTue 8:00am – 10:00pm\nWed 8:00am – 10:00pm\nThu 8:00am – 10:00pm
URL:https://lowryunitedneighborhoods.org/event/target-opens-in-boulevard-one/
LOCATION:CO
END:VEVENT
END:VCALENDAR